BEGIN:VCALENDAR
VERSION:2.0
PRODID:-//Kunstlijn Haarlem - ECPv5.14.2.1//NONSGML v1.0//EN
CALSCALE:GREGORIAN
METHOD:PUBLISH
X-WR-CALNAME:Kunstlijn Haarlem
X-ORIGINAL-URL:https://kunstlijn.org
X-WR-CALDESC:Evenementen voor Kunstlijn Haarlem
BEGIN:VTIMEZONE
TZID:Europe/Amsterdam
BEGIN:DAYLIGHT
TZOFFSETFROM:+0100
TZOFFSETTO:+0200
TZNAME:CEST
DTSTART:20220327T010000
END:DAYLIGHT
BEGIN:STANDARD
TZOFFSETFROM:+0200
TZOFFSETTO:+0100
TZNAME:CET
DTSTART:20221030T010000
END:STANDARD
END:VTIMEZONE
BEGIN:VEVENT
DTSTART;VALUE=DATE:20221027
DTEND;VALUE=DATE:20221121
DTSTAMP:20260419T225927
CREATED:20221103T115928Z
LAST-MODIFIED:20221115T104025Z
UID:52408-1666828800-1668988799@kunstlijn.org
SUMMARY:7 kunstenaars tonen hun werk
DESCRIPTION:
URL:https://kunstlijn.org/expositie/7-kunstenaars-tonen-hun-werk/
LOCATION:De Waag\, Spaarne 30\, Haarlem\, 2011 CJ\, Nederland
CATEGORIES:Expositie,Kunstlijn 2022
ATTACH;FMTTYPE=image/jpeg:https://kunstlijn.org/wp-content/uploads/2022/11/CDB63FF6-7177-4EE6-9BE5-2A6FC5F2DAF31.jpg
END:VEVENT
END:VCALENDAR