BEGIN:VCALENDAR
VERSION:2.0
PRODID:-//Kunstlijn Haarlem - ECPv5.14.2.1//NONSGML v1.0//EN
CALSCALE:GREGORIAN
METHOD:PUBLISH
X-WR-CALNAME:Kunstlijn Haarlem
X-ORIGINAL-URL:https://kunstlijn.org
X-WR-CALDESC:Evenementen voor Kunstlijn Haarlem
BEGIN:VTIMEZONE
TZID:Europe/Amsterdam
BEGIN:DAYLIGHT
TZOFFSETFROM:+0100
TZOFFSETTO:+0200
TZNAME:CEST
DTSTART:20220327T010000
END:DAYLIGHT
BEGIN:STANDARD
TZOFFSETFROM:+0200
TZOFFSETTO:+0100
TZNAME:CET
DTSTART:20221030T010000
END:STANDARD
END:VTIMEZONE
BEGIN:VEVENT
DTSTART;VALUE=DATE:20221102
DTEND;VALUE=DATE:20230101
DTSTAMP:20260424T160520
CREATED:20221003T090434Z
LAST-MODIFIED:20221115T104254Z
UID:51716-1667347200-1672531199@kunstlijn.org
SUMMARY:Haarlemse Meesters in Wording\, editie 4
DESCRIPTION:De KinderKunstlijn heeft als doel kinderen kennis te laten maken met kunst en zelf aan het werk te gaan om hun talenten te ontdekken en te ontwikkelen. De KinderKunstijn maakt kunst voor elk kind in Haarlem toegankelijk. \nDe tentoonstelling Haarlemse Meesters in Wording\, editie 4 is te zien van 2 november 2022 t/m 31 december in ABC Architectuurcentrum Haarlem. Het werk van de leerlingen (bovenbouw groep 6\, 7 of 8) is daar in combinatie met één werk van ondergenoemde kunstenaars geëxposeerd. Ook is in het ABC beeldmateriaal van de verschillende workshops te zien. \n\nOpening KinderKunstlijn\nDe kinderburgemeester Tess Linting van Haarlem opent woensdag 2 november om 16:00 uur de tentoonstelling. Onder leiding van muziekdocent Machteld Adema zingen de kinderen het lied ‘Talent’. \nDeelnemende kunstenaars en basisscholen\nMarisa Beretta (St Bavoschool -Eemstraat)\, Jaap Binnema (De Dolfijn)\, Yvonne van den Elsen (De Globe)\, Ap Esenbrink (Kunstnest Schalkwijk)\, Willem Hamers (St Bavoschool – Reviusstraat )\, Ruud Zweypfenning (Prof. van Gilseschool). \nDeelnemende locaties:\nABC Architectuurcentrum\, Sociëteit Vereeniging\, Kunst Centrum Haarlem\, Vishal\, Noord-Hollands Archief\, Stadhuis\, Kloostergangen\, Frans Hals Museum. \nOpdrachtenboekje\nDoor middel van educatieve opdrachten leren kinderen kijken naar kunst. Vanaf vrijdag 4 november is het opdrachtenboekje af te halen bij de deelnemende locaties. Klik op het plaatje om het boekje te bekijken.
URL:https://kunstlijn.org/expositie/haarlemse-meesters-in-wording-editie-4/
LOCATION:ABC Architectuurcentrum Haarlem\, Groot Heiligland 47\, Haarlem\, 2011 EP\, Nederland
CATEGORIES:Expositie,Kunstlijn 2022
ATTACH;FMTTYPE=image/jpeg:https://kunstlijn.org/wp-content/uploads/2022/10/A5-FLYER_Kinderkunstlijn2022.jpg
END:VEVENT
END:VCALENDAR