BEGIN:VCALENDAR
VERSION:2.0
PRODID:-//Kunstlijn Haarlem - ECPv5.14.2.1//NONSGML v1.0//EN
CALSCALE:GREGORIAN
METHOD:PUBLISH
X-WR-CALNAME:Kunstlijn Haarlem
X-ORIGINAL-URL:https://kunstlijn.org
X-WR-CALDESC:Evenementen voor Kunstlijn Haarlem
BEGIN:VTIMEZONE
TZID:Europe/Amsterdam
BEGIN:DAYLIGHT
TZOFFSETFROM:+0100
TZOFFSETTO:+0200
TZNAME:CEST
DTSTART:20220327T010000
END:DAYLIGHT
BEGIN:STANDARD
TZOFFSETFROM:+0200
TZOFFSETTO:+0100
TZNAME:CET
DTSTART:20221030T010000
END:STANDARD
END:VTIMEZONE
BEGIN:VEVENT
DTSTART;VALUE=DATE:20221104
DTEND;VALUE=DATE:20221113
DTSTAMP:20260425T043114
CREATED:20221103T104559Z
LAST-MODIFIED:20221103T104559Z
UID:52394-1667520000-1668297599@kunstlijn.org
SUMMARY:Kunstlijn bij Chez Freddy
DESCRIPTION:Dwalen door de straten van Haarlem\, langsgaan bij ateliers en galeries\, op zoek naar verborgen parels. Uiteraard neemt galerie Chez Freddy art & design ook deel. \nTijdens de kunstlijn zijn er bij Chez Freddy een groeps expositie van meerdere kunstenaars. Grote en kleine werken\, schilderijen\, fotografie\, mixed media\, bronzen beelden en zelfs een digital sculpture (NFT) \nDeelnemende kunstenaars\nClifton Mahangoe\nJoris Verdonkschot (deelnemer kunstlijn)\nEliane Douglas\nKarlien Kuperus\nTitus Brein (deelnemer kunstlijn)\nOlav van Lede
URL:https://kunstlijn.org/expositie/kunstlijn-bij-chez-freddy/
LOCATION:Chez Freddy – art & design –\, Wagenweg 1\, Haarlem\, 2012 NA\, Nederland
CATEGORIES:Kunstlijn 2022
ATTACH;FMTTYPE=image/jpeg:https://kunstlijn.org/wp-content/uploads/2022/11/titus-brein.jpg
END:VEVENT
END:VCALENDAR