BEGIN:VCALENDAR
VERSION:2.0
PRODID:-//Kunstlijn Haarlem - ECPv5.14.2.1//NONSGML v1.0//EN
CALSCALE:GREGORIAN
METHOD:PUBLISH
X-WR-CALNAME:Kunstlijn Haarlem
X-ORIGINAL-URL:https://kunstlijn.org
X-WR-CALDESC:Evenementen voor Kunstlijn Haarlem
BEGIN:VTIMEZONE
TZID:Europe/Amsterdam
BEGIN:DAYLIGHT
TZOFFSETFROM:+0100
TZOFFSETTO:+0200
TZNAME:CEST
DTSTART:20240331T010000
END:DAYLIGHT
BEGIN:STANDARD
TZOFFSETFROM:+0200
TZOFFSETTO:+0100
TZNAME:CET
DTSTART:20241027T010000
END:STANDARD
END:VTIMEZONE
BEGIN:VEVENT
DTSTART;VALUE=DATE:20240222
DTEND;VALUE=DATE:20240226
DTSTAMP:20260419T145619
CREATED:20240222T234020Z
LAST-MODIFIED:20240223T002906Z
UID:54359-1708560000-1708905599@kunstlijn.org
SUMMARY:Op de Vlakte
DESCRIPTION:Kunstschilder Antoinette Grote Gansey laat zich inspireren door de natuur\, in welke hoedanigheid dan ook. Die natuur wordt teruggebracht tot een soort esthetiek in vlakken en de compositie daarvan is een belangrijk onderdeel. Er spreekt een stilte uit haar schilderijen. \nDe schilder werkt met acrylverf en vlakken kunnen we wel als haar handelsmerk beschouwen. \nZe staan voor een geabstraheerde werkelijkheid. “Met de vorm en kleur ervan kan ik heel lang bezig zijn\, totdat het klopt. In mijn ogen dan. Schilderen is vooral veel kijken.”
URL:https://kunstlijn.org/expositie/op-de-vlakte/
LOCATION:Naaiatelier Haarlem\, Spaarnwouderstraat 124\, Haarlem\, Noord-Holland\, 2011 AH\, Nederland
CATEGORIES:Expositie
ATTACH;FMTTYPE=image/jpeg:https://kunstlijn.org/wp-content/uploads/2024/02/Uitnodiging-Op-de-Vlakte-in-Naaiatelier-e1708645159298.jpg
END:VEVENT
END:VCALENDAR