BEGIN:VCALENDAR
VERSION:2.0
PRODID:-//Kunstlijn Haarlem - ECPv5.14.2.1//NONSGML v1.0//EN
CALSCALE:GREGORIAN
METHOD:PUBLISH
X-WR-CALNAME:Kunstlijn Haarlem
X-ORIGINAL-URL:https://kunstlijn.org
X-WR-CALDESC:Evenementen voor Kunstlijn Haarlem
BEGIN:VTIMEZONE
TZID:Europe/Amsterdam
BEGIN:DAYLIGHT
TZOFFSETFROM:+0100
TZOFFSETTO:+0200
TZNAME:CEST
DTSTART:20220327T010000
END:DAYLIGHT
BEGIN:STANDARD
TZOFFSETFROM:+0200
TZOFFSETTO:+0100
TZNAME:CET
DTSTART:20221030T010000
END:STANDARD
END:VTIMEZONE
BEGIN:VEVENT
DTSTART;VALUE=DATE:20221027
DTEND;VALUE=DATE:20221112
DTSTAMP:20260419T212942
CREATED:20221005T133539Z
LAST-MODIFIED:20221019T235431Z
UID:51772-1666828800-1668211199@kunstlijn.org
SUMMARY:Stillness in Nature
DESCRIPTION:De kunstenaars geven uiting aan de stilte in de natuur\, en dan met name het zijn in de groene natuur. Wandelend door het bos\, ervaren van bomen\, ritselende bladeren en kleurrijke stil bewegende bloemen. Of in ieder geval het gevoel ervan\, de abstractere weergave van het rustgevende effect dat groen op ons heeft. Door stil te zijn hoor en ervaar je de natuur. \nDeelnemers\nLenie Kamstra\, Andre Evers\, Marion Kieft\, Barta de Broekert\, Marieke Adrichem\, Jeanette de Bruin\, Otie van Vloten\, Jaap Ploos van Amstel \n\n  \nExpositieperiode\nDonderdag 27 oktober t/m donderdag 1 december\nKunstlijn weekend 5 en 6 november geopend van 11.00 t/m 17.00 uur\nOverige dagen tijdens opening Stadhuis: ma – vr 8.00 t/m 17.00 uur \nOpening expositie\nVrijdagmiddag 4 november om 16.30 uur zal Burgemeester Wienen de opening verrichten. Vanaf 16.00 uur inloop.
URL:https://kunstlijn.org/expositie/stillness-in-nature/
LOCATION:Kloostergangen\, Grote Markt 2\, Haarlem\, 2011 RD\, Nederland
CATEGORIES:Kunstlijn 2022
ATTACH;FMTTYPE=image/jpeg:https://kunstlijn.org/wp-content/uploads/2022/10/Marieke-van-Adrichem.jpg
END:VEVENT
END:VCALENDAR