BEGIN:VCALENDAR
VERSION:2.0
PRODID:-//Kunstlijn Haarlem - ECPv5.14.2.1//NONSGML v1.0//EN
CALSCALE:GREGORIAN
METHOD:PUBLISH
X-WR-CALNAME:Kunstlijn Haarlem
X-ORIGINAL-URL:https://kunstlijn.org
X-WR-CALDESC:Evenementen voor Kunstlijn Haarlem
BEGIN:VTIMEZONE
TZID:Europe/Amsterdam
BEGIN:DAYLIGHT
TZOFFSETFROM:+0100
TZOFFSETTO:+0200
TZNAME:CEST
DTSTART:20220327T010000
END:DAYLIGHT
BEGIN:STANDARD
TZOFFSETFROM:+0200
TZOFFSETTO:+0100
TZNAME:CET
DTSTART:20221030T010000
END:STANDARD
END:VTIMEZONE
BEGIN:VEVENT
DTSTART;VALUE=DATE:20221101
DTEND;VALUE=DATE:20221116
DTSTAMP:20260424T143158
CREATED:20221011T114124Z
LAST-MODIFIED:20221115T104224Z
UID:52052-1667260800-1668556799@kunstlijn.org
SUMMARY:STILTE\, een venster op een duurzame wereld
DESCRIPTION:De natuur wordt ieder jaar stiller. In de hele wereld sterven dieren en planten uit. Ook in Nederland neemt de rijkdom van de natuur dramatisch af als bloeiende weiden veranderen in Monsanto-grasvelden en heidevelden verdrogen. In 1963 schreef de Amerikaanse schrijver\nRachel Carson het profetische boek Silent Spring over de stilte die ontstaat als de natuur gestorven is. Zestig jaar later wordt de nood steeds zichtbaarder. \nVoor fotograaf Dik Bol was dat reden om een podium te geven aan mensen die daar echt iets aan willen veranderen. Zodat het niet stil wordt in de wereld. Hij portretteerde vele docenten\, klimaatactivisten en bevlogen kunstenaars die de handen uit de mouwen steken voor een duurzame toekomst. \nDik Bol: “Vanaf de jaren tachtig ben ik straatfotograaf en heb een groot aantal fotoreizen naar landen in Europa\, Zuidelijk Afrika en Midden-Amerika gemaakt. Voor sociale projecten ben ik in Nicaragua\, Peru\, Marokko\, Kenia\, Ethiopië en Zimbabwe geweest. Voor onderwijsprojecten heb ik samen gewerkt met docenten en studenten uit Portugal\, Ierland\, België en Polen.” \nLocaties\nDe tentoonstelling is in de voormalige WE-winkel vlakbij de HEMA en BCC.\nMeer werk is te zien in de Spaarnwouderstraat 122 van 23 september t/m 15 november 2022. \nSustainable Development Goals of Duurzame Ontwikkelingsdoelen\nDit zijn zeventien doelen om van de wereld een betere plek te maken in 2030. De SDG’s zijn afgesproken door de landen die zijn aangesloten bij de Verenigde Naties (VN)\, waaronder Nederland. De doelen kwamen er op basis van wereldwijde inbreng van organisaties en individuen. De Duurzame Ontwikkelingsdoelen startten in 2015 en lopen nog tot 2030. Ze zijn een mondiaal kompas voor uitdagingen als armoede\, onderwijs en de klimaatcrisis.
URL:https://kunstlijn.org/expositie/stilte-een-venster-op-een-duurzame-wereld/
LOCATION:Winkelcentrum Schalkwijk\, Floridaplein 13\, Haarlem\, Noord-Holland\, 2037 AK\, Nederland
CATEGORIES:Expositie,Kunstlijn 2022
ATTACH;FMTTYPE=image/jpeg:https://kunstlijn.org/wp-content/uploads/2022/10/Dik-Bol2.jpg
END:VEVENT
END:VCALENDAR