BEGIN:VCALENDAR
VERSION:2.0
PRODID:-//Kunstlijn Haarlem - ECPv5.14.2.1//NONSGML v1.0//EN
CALSCALE:GREGORIAN
METHOD:PUBLISH
X-WR-CALNAME:Kunstlijn Haarlem
X-ORIGINAL-URL:https://kunstlijn.org
X-WR-CALDESC:Evenementen voor Kunstlijn Haarlem
BEGIN:VTIMEZONE
TZID:Europe/Amsterdam
BEGIN:DAYLIGHT
TZOFFSETFROM:+0100
TZOFFSETTO:+0200
TZNAME:CEST
DTSTART:20220327T010000
END:DAYLIGHT
BEGIN:STANDARD
TZOFFSETFROM:+0200
TZOFFSETTO:+0100
TZNAME:CET
DTSTART:20221030T010000
END:STANDARD
BEGIN:DAYLIGHT
TZOFFSETFROM:+0100
TZOFFSETTO:+0200
TZNAME:CEST
DTSTART:20230326T010000
END:DAYLIGHT
BEGIN:STANDARD
TZOFFSETFROM:+0200
TZOFFSETTO:+0100
TZNAME:CET
DTSTART:20231029T010000
END:STANDARD
END:VTIMEZONE
BEGIN:VEVENT
DTSTART;VALUE=DATE:20221015
DTEND;VALUE=DATE:20230109
DTSTAMP:20260419T163442
CREATED:20221010T084734Z
LAST-MODIFIED:20221103T112211Z
UID:52035-1665792000-1673222399@kunstlijn.org
SUMMARY:The Art of Trash
DESCRIPTION:‘The Art of Trash’ laat een boeiende expositie zien met onverwachte uitkomst; een persoonlijke zoektocht naar nieuwe wegen en mogelijkheden waarbij hergebruik een voorwaarde was. \n“Kunnen wij kunst maken van afval”\, vroegen de acht leden van kunstcollectief De Zout zich af. De uitdaging werd aangenomen om op creatieve wijze aandacht te vragen voor klimaatverandering en de gevolgen van de consumptiemaatschappij. Met de expositie hopen we bezoekers\, volwassenen en kinderen\, te inspireren om creatief te zijn met dagelijks afval. Van ‘trash’ naar ‘treasure’ kan met materialen die gewoon voor handen zijn\, alleen moet je af en toe even sparen. \nHet gebruik van gerecyclede of hergebruikte objecten om kunst van te maken wordt ook wel ‘upcycling’ genoemd. De kunstenaars die de uitdaging hebben opgepakt zijn Georgios Flouris\, Lily van Rosmalen\, José Sierkstra\, Paulina Krijnen\, Francis Martinot\, Renée van der Hulst\, Evelien Grosheide\, Maud Ramaekers en Joke Noordstrand. \nOpeningstijden\nDe expositie is van 15 oktober tot 9 januari 2023 te zien in pop-up galerie De Zout\, Grote Houtstraat 149 te Haarlem\, op zaterdagen en zondagen van 12.00 tot 17.00 uur. De opening vindt plaats op zaterdag 15 oktober om 15.00 uur. \nDe Zout is de nieuwe art-hotspot in Haarlem met een sociaal/maatschappelijke strijdbare houding. De Zout laat zien dat kunst toegankelijk\, zichtbaar en betaalbaar is voor iedereen\, waar alles kunst mag zijn\, een beleving\, pretentie- en tijdloos! De Zout heeft een eigen pop-up-galerie aan de Grote Houtstraat 149 in Haarlem en is geopend op zaterdag en zondag van 12.00 tot 17.00 uur.
URL:https://kunstlijn.org/expositie/the-art-of-trash/
LOCATION:Art De Zout\, Grote Houtstraat 149\, Haarlem\, Noord-Holland\, 2011 SJ\, Nederland
CATEGORIES:Expositie
ATTACH;FMTTYPE=image/jpeg:https://kunstlijn.org/wp-content/uploads/2022/10/Aankondiging-The-Art-of-Trash.jpg
END:VEVENT
END:VCALENDAR