BEGIN:VCALENDAR
VERSION:2.0
PRODID:-//Kunstlijn Haarlem - ECPv5.14.2.1//NONSGML v1.0//EN
CALSCALE:GREGORIAN
METHOD:PUBLISH
X-WR-CALNAME:Kunstlijn Haarlem
X-ORIGINAL-URL:https://kunstlijn.org
X-WR-CALDESC:Evenementen voor Kunstlijn Haarlem
BEGIN:VTIMEZONE
TZID:Europe/Amsterdam
BEGIN:DAYLIGHT
TZOFFSETFROM:+0100
TZOFFSETTO:+0200
TZNAME:CEST
DTSTART:20220327T010000
END:DAYLIGHT
BEGIN:STANDARD
TZOFFSETFROM:+0200
TZOFFSETTO:+0100
TZNAME:CET
DTSTART:20221030T010000
END:STANDARD
BEGIN:DAYLIGHT
TZOFFSETFROM:+0100
TZOFFSETTO:+0200
TZNAME:CEST
DTSTART:20230326T010000
END:DAYLIGHT
BEGIN:STANDARD
TZOFFSETFROM:+0200
TZOFFSETTO:+0100
TZNAME:CET
DTSTART:20231029T010000
END:STANDARD
END:VTIMEZONE
BEGIN:VEVENT
DTSTART;VALUE=DATE:20221104
DTEND;VALUE=DATE:20230306
DTSTAMP:20260424T192542
CREATED:20221005T134911Z
LAST-MODIFIED:20221201T121352Z
UID:51864-1667520000-1678060799@kunstlijn.org
SUMMARY:UNTOLD - UNFOLD
DESCRIPTION:Tijdens de Kunstlijn presenteert Nieuwe Vide de tentoonstelling UNTOLD – UNFOLD\, met werk van Studio kunstenaars Meli Kuhn\, Marianne Lammersen en Candela Murillo. \nIn de tentoonstelling UNTOLD – UNFOLD reageren drie vrouwelijke kunstenaars via hun werk op een woelige wereld die voortdurend aan verandering onderhevig is. Vertrekpunt is de constante zoektocht binnen in jezelf naar een verhouding tot deze wereld. Het gebeurt niet dáár\, maar hier. Niet in snelheid\, maar in vertraging. Niet in onrust\, maar in stilte. \nSculpturen\, performance\, film\, schilderijen – de ruimte wordt via verschillende media betast. De beelden onderzoeken\, zonder te vinden of concluderen. Zij komen voort uit verlangens\, fantasieën\, nog onduidelijk en onbepaald\, aftastend en groeiend. De werken bieden een alternatieve ervaring van een leven/wereld waar de ratio te vaak de overhand heeft. In die wereld waar de buitenkant\, de eerste indruk\, de schreeuw\, het (harde) uitgesproken woord\, de duiding en gevestigde structuur geregeld een platte ervaring voorschotelt\, zoeken zij naar manieren hun omgeving van binnenuit te begrijpen. Van analyse en ontleding\, tot vlucht en verstilling.\nIn plaats van naar buiten\, kijken we in UNTOLD – UNFOLD eerst naar binnen. \nDe opening vindt plaats op 4 november\, om 17.00 uur. \n\nUNTOLD – UNFOLD  verlengd wegens succes\nGoed nieuws! Wegens succes is de tentoonstelling UNTOLD – UNFOLD verlengd. In het voorjaar zullen er rond deze tentoonstelling nog meer workshops en performances zijn. In de tentoonstelling reageren de drie kunstenaars Meli Kuhn\, Marianne Lammersen en Candela Murillo via hun werk op een woelige wereld die voortdurend aan verandering onderhevig is. \nKom Nieuwe Vide bezoeken elke vrijdag\, zaterdag en zondag (kerststop 12 december t/m 12 januari). \nNieuwe Vide is een kunstpodium en broedplaats\, en is ontstaan uit de kraakbeweging. Vandaag de dag bouwen we voort op de activistische idealen en DIY-mentaliteit die aan de basis lagen van onze instelling. Vanuit deze wortels zoeken we constant naar manieren om kunst en maatschappij met elkaar te verbinden\, met als kloppend hart onze community in de broedplaats. We zijn verbonden met elkaar door kunst\, maar ook door eten en gezelligheid. Dus kom vooral langs! \n 
URL:https://kunstlijn.org/expositie/untold-unfold/
LOCATION:Nieuwe Vide\, Energieplein 69\, Haarlem\, 2031TC\, Nederland
CATEGORIES:Expositie,Kunstlijn 2022
ATTACH;FMTTYPE=image/jpeg:https://kunstlijn.org/wp-content/uploads/2022/10/work_Marianne-Lammersen-scaled-e1664977488594.jpg
END:VEVENT
END:VCALENDAR